BEGIN:VCALENDAR
VERSION:2.0
PRODID:-//eventon.com NONSGML v1.0//EN
BEGIN:VEVENT
UID:69e9e2e78aa65
DTSTAMP:20260423T051415
DTSTART:20170211T230000Z
DTEND:20170212T020000Z
LOCATION:
SUMMARY:RENEE FLEMING brings her bold spirit and vocal virtuosity to the PEACE CENTER on SATURDAY\,  FEBRUARY 11th. Horizon celebrates RENEE FLEMING week!
DESCRIPTION: RENEE FLEMING brings her bold spirit and vocal virtuosity to the PEACE CENTER on SATURDAY\,  FEBRUARY 11th. Horizon celebrates RENEE FLEMING week!
END:VEVENT
END:VCALENDAR