BEGIN:VCALENDAR
VERSION:2.0
PRODID:-//eventon.com NONSGML v1.0//EN
BEGIN:VEVENT
UID:69eb2fe195a8a
DTSTAMP:20260424T045457
DTSTART:20180922T180000Z
DTEND:20180922T070000Z
LOCATION:
SUMMARY:MICHELLE MALONE returns to HORIZON RECORDS for a rockin' full-band in-store show on RECORD FAIR WEEKEND\,  Saturday\,  Sept. 22nd at 2pm!
DESCRIPTION: MICHELLE MALONE returns to HORIZON RECORDS for a rockin' full-band in-store show on RECORD FAIR WEEKEND\,  Saturday\,  Sept. 22nd at 2pm!
END:VEVENT
END:VCALENDAR