BEGIN:VCALENDAR
VERSION:2.0
PRODID:-//eventon.com NONSGML v1.0//EN
BEGIN:VEVENT
UID:69ed4384b37e3
DTSTAMP:20260425T184316
DTSTART:20190316T160000Z
DTEND:20190316T170000Z
LOCATION:
SUMMARY:SETH WALKER has returned with a new album\,  “Are You Open?” and he’s playing a release show right here TODAY to celebrate! Join us at noon sharp for some New Orleans soul-funk- rock!
DESCRIPTION: SETH WALKER has returned with a new album\,  “Are You Open?” and he’s playing a release show right here TODAY to celebrate! Join us at noon sharp for some New Orleans soul-funk- rock!
END:VEVENT
END:VCALENDAR