BEGIN:VCALENDAR
VERSION:2.0
PRODID:-//eventon.com NONSGML v1.0//EN
BEGIN:VEVENT
UID:69ec9c098b463
DTSTAMP:20260425T064841
DTSTART:20190802T140000Z
DTEND:20190901T020000Z
LOCATION:
SUMMARY:August is MERGE RECORDS month\,  and HORIZON is helping celebrate Merge's 30th anniversary as an official POP-UP STORE. 20% off all Merge vinyl\,  all month!
DESCRIPTION: August is MERGE RECORDS month\,  and HORIZON is helping celebrate Merge's 30th anniversary as an official POP-UP STORE. 20% off all Merge vinyl\,  all month!
END:VEVENT
END:VCALENDAR