BEGIN:VCALENDAR
VERSION:2.0
PRODID:-//eventon.com NONSGML v1.0//EN
BEGIN:VEVENT
UID:69e8929ccf743
DTSTAMP:20260422T051924
DTSTART:20191020T190000Z
DTEND:20191021T035000Z
LOCATION:
SUMMARY:Greenville’s own SHADY RECRUITS bring the funky jams to HORIZON RECORDS in THE BOHEMIAN CAFE TODAY at 3pm to celebrate the release of their new EP!!
DESCRIPTION: Greenville’s own SHADY RECRUITS bring the funky jams to HORIZON RECORDS in THE BOHEMIAN CAFE TODAY at 3pm to celebrate the release of their new EP!!
END:VEVENT
END:VCALENDAR