BEGIN:VCALENDAR
VERSION:2.0
PRODID:-//eventon.com NONSGML v1.0//EN
BEGIN:VEVENT
UID:69e8b0b8b2213
DTSTAMP:20260422T072752
DTSTART:20211017T010000Z
DTEND:20211017T035000Z
LOCATION:
SUMMARY:SARAH SHOOK & THE DISARMERS packed out THE RADIO ROOM the last time they were in town\,  and they're headed back on Saturday\,  Oct. 16th!
DESCRIPTION: SARAH SHOOK & THE DISARMERS packed out THE RADIO ROOM the last time they were in town\,  and they're headed back on Saturday\,  Oct. 16th!
END:VEVENT
END:VCALENDAR