BEGIN:VCALENDAR
VERSION:2.0
PRODID:-//eventon.com NONSGML v1.0//EN
BEGIN:VEVENT
UID:69e81a6226d69
DTSTAMP:20260421T204626
DTSTART:20220716T000000Z
DTEND:20220716T035000Z
LOCATION:
SUMMARY:RHETT MILLER (of OLD 97’s) is bringing a little rockin’ alt-country to the RADIO ROOM on FRIDAY JULY 15th!
DESCRIPTION: RHETT MILLER (of OLD 97’s) is bringing a little rockin’ alt-country to the RADIO ROOM on FRIDAY JULY 15th!
END:VEVENT
END:VCALENDAR