BEGIN:VCALENDAR
VERSION:2.0
PRODID:-//eventon.com NONSGML v1.0//EN
BEGIN:VEVENT
UID:69e8d8e14f5d6
DTSTAMP:20260422T101913
DTSTART:20160126T140000Z
DTEND:20160127T020000Z
LOCATION:
SUMMARY:Start Your Ear Off Right Sale!
DESCRIPTION: On Tuesday\,  Jan. 19th\,  the kings of the reissue\,  RHINO RECORDS\,  will unleash a plethora of classic vinyl albums as part of their “Start Your Ear Off Right” sale! by Horizon Admin RHINO RECORDS is bringing some classic tunes back to life with their first-ever “Start Your Ear Off Right” sale\, [..]
END:VEVENT
END:VCALENDAR