BEGIN:VCALENDAR
VERSION:2.0
PRODID:-//eventon.com NONSGML v1.0//EN
BEGIN:VEVENT
UID:69e61d80a5917
DTSTAMP:20260420T083512
DTSTART:20160508T000000Z
DTEND:20160507T040000Z
LOCATION:
SUMMARY:JOHN BYCE brings the EXCONS back to IPA on Saturday\,  May 7th with a little help from ANALOG MOON & MOURNING DOVE!
DESCRIPTION: Beatmaster JOHN BYCE has been a little scarce on the Upstate music scene lately\,  which is why it's just so nice to hear he's bringing his indie-roots-rock outfit the EXCONS back to Independent Public Ale House this Saturday\,  with the Asheville space-rock band ANALOG MOON and the lovely Greenville folk duo[..]
END:VEVENT
END:VCALENDAR