BEGIN:VCALENDAR
VERSION:2.0
PRODID:-//eventon.com NONSGML v1.0//EN
BEGIN:VEVENT
UID:69e6088e22d04
DTSTAMP:20260420T070550
DTSTART:20161030T010000Z
DTEND:20161030T035100Z
LOCATION:Bon Secours Wellness Arena 650 N Academy St\,  Greenville\,  SC 29601
SUMMARY:Longtime Horizon-friendly arena warriors THE AVETT BROTHERS return to play Bon Secours Wellness Arena! Tickets on-sale NOW!
DESCRIPTION: Longtime Horizon-friendly arena warriors THE AVETT BROTHERS return to play Bon Secours Wellness Arena! Tickets on-sale NOW!
END:VEVENT
END:VCALENDAR