BEGIN:VCALENDAR
VERSION:2.0
PRODID:-//eventon.com NONSGML v1.0//EN
BEGIN:VEVENT
UID:69e732ae420c2
DTSTAMP:20260421T041750
DTSTART:20170114T000000Z
DTEND:20170114T030000Z
LOCATION:
SUMMARY:Newgrass wizards THE INFAMOUS STRINGDUSTERS have returned with a new album\,  and they’re playing shows at The Orange Peel\,  the Georgia Theatre and the Visulite to celebrate!
DESCRIPTION: Newgrass wizards THE INFAMOUS STRINGDUSTERS have returned with a new album\,  and they’re playing shows at The Orange Peel\,  the Georgia Theatre and the Visulite to celebrate!
END:VEVENT
END:VCALENDAR