BEGIN:VCALENDAR
VERSION:2.0
PRODID:-//eventon.com NONSGML v1.0//EN
BEGIN:VEVENT
UID:69eca2c1d9274
DTSTAMP:20260425T071721
DTSTART:20231019T233000Z
DTEND:20231020T035000Z
LOCATION:
SUMMARY:Join the SIGAL MUSIC MUSEUM on THURSDAY\,  OCTOBER 19th for an evening concert with THE PALMETTO SAXOPHONE QUARTET!
DESCRIPTION: Join the SIGAL MUSIC MUSEUM on THURSDAY\,  OCTOBER 19th for an evening concert with THE PALMETTO SAXOPHONE QUARTET!
END:VEVENT
END:VCALENDAR